BEGIN:VCALENDAR
VERSION:2.0
PRODID:-//jEvents 2.0 for Joomla//EN
CALSCALE:GREGORIAN
METHOD:PUBLISH
BEGIN:VTIMEZONE
TZID:Australia/Melbourne
BEGIN:STANDARD
DTSTART:20170402T020000
RDATE:20171001T030000
TZOFFSETFROM:+1100
TZOFFSETTO:+1000
TZNAME:Australia/Melbourne AEST
END:STANDARD
BEGIN:STANDARD
DTSTART:20180401T020000
RDATE:20181007T030000
TZOFFSETFROM:+1100
TZOFFSETTO:+1000
TZNAME:Australia/Melbourne AEST
END:STANDARD
BEGIN:STANDARD
DTSTART:20190407T020000
RDATE:20191006T030000
TZOFFSETFROM:+1100
TZOFFSETTO:+1000
TZNAME:Australia/Melbourne AEST
END:STANDARD
BEGIN:STANDARD
DTSTART:20200405T020000
RDATE:20201004T030000
TZOFFSETFROM:+1100
TZOFFSETTO:+1000
TZNAME:Australia/Melbourne AEST
END:STANDARD
BEGIN:STANDARD
DTSTART:20210404T020000
RDATE:20211003T030000
TZOFFSETFROM:+1100
TZOFFSETTO:+1000
TZNAME:Australia/Melbourne AEST
END:STANDARD
BEGIN:STANDARD
DTSTART:20220403T020000
RDATE:20221002T030000
TZOFFSETFROM:+1100
TZOFFSETTO:+1000
TZNAME:Australia/Melbourne AEST
END:STANDARD
BEGIN:STANDARD
DTSTART:20230402T020000
RDATE:20231001T030000
TZOFFSETFROM:+1100
TZOFFSETTO:+1000
TZNAME:Australia/Melbourne AEST
END:STANDARD
BEGIN:STANDARD
DTSTART:20240407T020000
RDATE:20241006T030000
TZOFFSETFROM:+1100
TZOFFSETTO:+1000
TZNAME:Australia/Melbourne AEST
END:STANDARD
BEGIN:STANDARD
DTSTART:20250406T020000
RDATE:20251005T030000
TZOFFSETFROM:+1100
TZOFFSETTO:+1000
TZNAME:Australia/Melbourne AEST
END:STANDARD
BEGIN:STANDARD
DTSTART:20260405T020000
RDATE:20261004T030000
TZOFFSETFROM:+1100
TZOFFSETTO:+1000
TZNAME:Australia/Melbourne AEST
END:STANDARD
BEGIN:STANDARD
DTSTART:20270404T020000
RDATE:20271003T030000
TZOFFSETFROM:+1100
TZOFFSETTO:+1000
TZNAME:Australia/Melbourne AEST
END:STANDARD
BEGIN:STANDARD
DTSTART:20280402T020000
RDATE:20281001T030000
TZOFFSETFROM:+1100
TZOFFSETTO:+1000
TZNAME:Australia/Melbourne AEST
END:STANDARD
BEGIN:STANDARD
DTSTART:20290401T020000
RDATE:20291007T030000
TZOFFSETFROM:+1100
TZOFFSETTO:+1000
TZNAME:Australia/Melbourne AEST
END:STANDARD
BEGIN:STANDARD
DTSTART:20300407T020000
RDATE:20301006T030000
TZOFFSETFROM:+1100
TZOFFSETTO:+1000
TZNAME:Australia/Melbourne AEST
END:STANDARD
BEGIN:DAYLIGHT
DTSTART:20161116T000000
RDATE:20170402T020000
TZOFFSETFROM:+1000
TZOFFSETTO:+1100
TZNAME:Australia/Melbourne AEDT
END:DAYLIGHT
BEGIN:DAYLIGHT
DTSTART:20171001T030000
RDATE:20180401T020000
TZOFFSETFROM:+1000
TZOFFSETTO:+1100
TZNAME:Australia/Melbourne AEDT
END:DAYLIGHT
BEGIN:DAYLIGHT
DTSTART:20181007T030000
RDATE:20190407T020000
TZOFFSETFROM:+1000
TZOFFSETTO:+1100
TZNAME:Australia/Melbourne AEDT
END:DAYLIGHT
BEGIN:DAYLIGHT
DTSTART:20191006T030000
RDATE:20200405T020000
TZOFFSETFROM:+1000
TZOFFSETTO:+1100
TZNAME:Australia/Melbourne AEDT
END:DAYLIGHT
BEGIN:DAYLIGHT
DTSTART:20201004T030000
RDATE:20210404T020000
TZOFFSETFROM:+1000
TZOFFSETTO:+1100
TZNAME:Australia/Melbourne AEDT
END:DAYLIGHT
BEGIN:DAYLIGHT
DTSTART:20211003T030000
RDATE:20220403T020000
TZOFFSETFROM:+1000
TZOFFSETTO:+1100
TZNAME:Australia/Melbourne AEDT
END:DAYLIGHT
BEGIN:DAYLIGHT
DTSTART:20221002T030000
RDATE:20230402T020000
TZOFFSETFROM:+1000
TZOFFSETTO:+1100
TZNAME:Australia/Melbourne AEDT
END:DAYLIGHT
BEGIN:DAYLIGHT
DTSTART:20231001T030000
RDATE:20240407T020000
TZOFFSETFROM:+1000
TZOFFSETTO:+1100
TZNAME:Australia/Melbourne AEDT
END:DAYLIGHT
BEGIN:DAYLIGHT
DTSTART:20241006T030000
RDATE:20250406T020000
TZOFFSETFROM:+1000
TZOFFSETTO:+1100
TZNAME:Australia/Melbourne AEDT
END:DAYLIGHT
BEGIN:DAYLIGHT
DTSTART:20251005T030000
RDATE:20260405T020000
TZOFFSETFROM:+1000
TZOFFSETTO:+1100
TZNAME:Australia/Melbourne AEDT
END:DAYLIGHT
BEGIN:DAYLIGHT
DTSTART:20261004T030000
RDATE:20270404T020000
TZOFFSETFROM:+1000
TZOFFSETTO:+1100
TZNAME:Australia/Melbourne AEDT
END:DAYLIGHT
BEGIN:DAYLIGHT
DTSTART:20271003T030000
RDATE:20280402T020000
TZOFFSETFROM:+1000
TZOFFSETTO:+1100
TZNAME:Australia/Melbourne AEDT
END:DAYLIGHT
BEGIN:DAYLIGHT
DTSTART:20281001T030000
RDATE:20290401T020000
TZOFFSETFROM:+1000
TZOFFSETTO:+1100
TZNAME:Australia/Melbourne AEDT
END:DAYLIGHT
BEGIN:DAYLIGHT
DTSTART:20291007T030000
RDATE:20300407T020000
TZOFFSETFROM:+1000
TZOFFSETTO:+1100
TZNAME:Australia/Melbourne AEDT
END:DAYLIGHT
BEGIN:DAYLIGHT
DTSTART:20301006T030000
RDATE:20310406T020000
TZOFFSETFROM:+1000
TZOFFSETTO:+1100
TZNAME:Australia/Melbourne AEDT
END:DAYLIGHT
END:VTIMEZONE
BEGIN:VEVENT
UID:bc0a83e6fbedb7cd92e1506152e9a28e
CATEGORIES:VIC
CREATED:20171004T191340
SUMMARY:Mountain Grass Festival
LOCATION:MountainGrass
DESCRIPTION;ENCODING=QUOTED-PRINTABLE:<p>MountainGrass continues the tradition of bringing U.S. Bluegrass and Old
 Time acts to play concerts and run workshops for fans and players of all le
 vels. MountainGrass also showcases a selection of acts from Australia and N
 ew Zealand and runs instrument and other workshops for players of all level
 s. Most of all, MountainGrass offers two and a half days of non-stop pickin
 g and jamming and lots of opportunities to improve your chops. Tickets avai
 lable from -</p><p><a href="" target="_blank" title="">https://mountaingras
 s.com.au/tickets</a></p>
DTSTAMP:20200302T063754Z
DTSTART;TZID=Australia/Melbourne;VALUE=DATE:20171117
DTEND;TZID=Australia/Melbourne;VALUE=DATE:20171120
SEQUENCE:0
TRANSP:OPAQUE
END:VEVENT
END:VCALENDAR