BEGIN:VCALENDAR
VERSION:2.0
PRODID:-//jEvents 2.0 for Joomla//EN
CALSCALE:GREGORIAN
METHOD:PUBLISH
BEGIN:VTIMEZONE
TZID:Australia/Melbourne
BEGIN:STANDARD
DTSTART:20160804T000000
RDATE:20161002T030000
TZOFFSETFROM:+1100
TZOFFSETTO:+1000
TZNAME:Australia/Melbourne AEST
END:STANDARD
BEGIN:STANDARD
DTSTART:20170402T020000
RDATE:20171001T030000
TZOFFSETFROM:+1100
TZOFFSETTO:+1000
TZNAME:Australia/Melbourne AEST
END:STANDARD
BEGIN:STANDARD
DTSTART:20180401T020000
RDATE:20181007T030000
TZOFFSETFROM:+1100
TZOFFSETTO:+1000
TZNAME:Australia/Melbourne AEST
END:STANDARD
BEGIN:STANDARD
DTSTART:20190407T020000
RDATE:20191006T030000
TZOFFSETFROM:+1100
TZOFFSETTO:+1000
TZNAME:Australia/Melbourne AEST
END:STANDARD
BEGIN:STANDARD
DTSTART:20200405T020000
RDATE:20201004T030000
TZOFFSETFROM:+1100
TZOFFSETTO:+1000
TZNAME:Australia/Melbourne AEST
END:STANDARD
BEGIN:STANDARD
DTSTART:20210404T020000
RDATE:20211003T030000
TZOFFSETFROM:+1100
TZOFFSETTO:+1000
TZNAME:Australia/Melbourne AEST
END:STANDARD
BEGIN:STANDARD
DTSTART:20220403T020000
RDATE:20221002T030000
TZOFFSETFROM:+1100
TZOFFSETTO:+1000
TZNAME:Australia/Melbourne AEST
END:STANDARD
BEGIN:STANDARD
DTSTART:20230402T020000
RDATE:20231001T030000
TZOFFSETFROM:+1100
TZOFFSETTO:+1000
TZNAME:Australia/Melbourne AEST
END:STANDARD
BEGIN:STANDARD
DTSTART:20240407T020000
RDATE:20241006T030000
TZOFFSETFROM:+1100
TZOFFSETTO:+1000
TZNAME:Australia/Melbourne AEST
END:STANDARD
BEGIN:STANDARD
DTSTART:20250406T020000
RDATE:20251005T030000
TZOFFSETFROM:+1100
TZOFFSETTO:+1000
TZNAME:Australia/Melbourne AEST
END:STANDARD
BEGIN:STANDARD
DTSTART:20260405T020000
RDATE:20261004T030000
TZOFFSETFROM:+1100
TZOFFSETTO:+1000
TZNAME:Australia/Melbourne AEST
END:STANDARD
BEGIN:STANDARD
DTSTART:20270404T020000
RDATE:20271003T030000
TZOFFSETFROM:+1100
TZOFFSETTO:+1000
TZNAME:Australia/Melbourne AEST
END:STANDARD
BEGIN:STANDARD
DTSTART:20280402T020000
RDATE:20281001T030000
TZOFFSETFROM:+1100
TZOFFSETTO:+1000
TZNAME:Australia/Melbourne AEST
END:STANDARD
BEGIN:STANDARD
DTSTART:20290401T020000
RDATE:20291007T030000
TZOFFSETFROM:+1100
TZOFFSETTO:+1000
TZNAME:Australia/Melbourne AEST
END:STANDARD
BEGIN:STANDARD
DTSTART:20300407T020000
RDATE:20301006T030000
TZOFFSETFROM:+1100
TZOFFSETTO:+1000
TZNAME:Australia/Melbourne AEST
END:STANDARD
BEGIN:DAYLIGHT
DTSTART:20161002T030000
RDATE:20170402T020000
TZOFFSETFROM:+1000
TZOFFSETTO:+1100
TZNAME:Australia/Melbourne AEDT
END:DAYLIGHT
BEGIN:DAYLIGHT
DTSTART:20171001T030000
RDATE:20180401T020000
TZOFFSETFROM:+1000
TZOFFSETTO:+1100
TZNAME:Australia/Melbourne AEDT
END:DAYLIGHT
BEGIN:DAYLIGHT
DTSTART:20181007T030000
RDATE:20190407T020000
TZOFFSETFROM:+1000
TZOFFSETTO:+1100
TZNAME:Australia/Melbourne AEDT
END:DAYLIGHT
BEGIN:DAYLIGHT
DTSTART:20191006T030000
RDATE:20200405T020000
TZOFFSETFROM:+1000
TZOFFSETTO:+1100
TZNAME:Australia/Melbourne AEDT
END:DAYLIGHT
BEGIN:DAYLIGHT
DTSTART:20201004T030000
RDATE:20210404T020000
TZOFFSETFROM:+1000
TZOFFSETTO:+1100
TZNAME:Australia/Melbourne AEDT
END:DAYLIGHT
BEGIN:DAYLIGHT
DTSTART:20211003T030000
RDATE:20220403T020000
TZOFFSETFROM:+1000
TZOFFSETTO:+1100
TZNAME:Australia/Melbourne AEDT
END:DAYLIGHT
BEGIN:DAYLIGHT
DTSTART:20221002T030000
RDATE:20230402T020000
TZOFFSETFROM:+1000
TZOFFSETTO:+1100
TZNAME:Australia/Melbourne AEDT
END:DAYLIGHT
BEGIN:DAYLIGHT
DTSTART:20231001T030000
RDATE:20240407T020000
TZOFFSETFROM:+1000
TZOFFSETTO:+1100
TZNAME:Australia/Melbourne AEDT
END:DAYLIGHT
BEGIN:DAYLIGHT
DTSTART:20241006T030000
RDATE:20250406T020000
TZOFFSETFROM:+1000
TZOFFSETTO:+1100
TZNAME:Australia/Melbourne AEDT
END:DAYLIGHT
BEGIN:DAYLIGHT
DTSTART:20251005T030000
RDATE:20260405T020000
TZOFFSETFROM:+1000
TZOFFSETTO:+1100
TZNAME:Australia/Melbourne AEDT
END:DAYLIGHT
BEGIN:DAYLIGHT
DTSTART:20261004T030000
RDATE:20270404T020000
TZOFFSETFROM:+1000
TZOFFSETTO:+1100
TZNAME:Australia/Melbourne AEDT
END:DAYLIGHT
BEGIN:DAYLIGHT
DTSTART:20271003T030000
RDATE:20280402T020000
TZOFFSETFROM:+1000
TZOFFSETTO:+1100
TZNAME:Australia/Melbourne AEDT
END:DAYLIGHT
BEGIN:DAYLIGHT
DTSTART:20281001T030000
RDATE:20290401T020000
TZOFFSETFROM:+1000
TZOFFSETTO:+1100
TZNAME:Australia/Melbourne AEDT
END:DAYLIGHT
BEGIN:DAYLIGHT
DTSTART:20291007T030000
RDATE:20300407T020000
TZOFFSETFROM:+1000
TZOFFSETTO:+1100
TZNAME:Australia/Melbourne AEDT
END:DAYLIGHT
BEGIN:DAYLIGHT
DTSTART:20301006T030000
RDATE:20310406T020000
TZOFFSETFROM:+1000
TZOFFSETTO:+1100
TZNAME:Australia/Melbourne AEDT
END:DAYLIGHT
END:VTIMEZONE
BEGIN:VEVENT
UID:a8f82d12742ff48284966882250dd484
CATEGORIES:NSW
CREATED:20170712T162254
SUMMARY:Lockington Country Music Festival (Echuca Moama CMF)
LOCATION:Lockington Community Hall
DESCRIPTION;ENCODING=QUOTED-PRINTABLE:<p align="center">LOCKINGTON COUNTRY MUSIC FESTIVAL.&nbsp;<br />Lockington 
 Community Hall. Victoria<br />(25 minutes S.W. of Echuca)&nbsp;<br />Saturd
 ay 5th &amp; Sunday 6th August 2017</p><p>This festival was launched by Big
  River Entertainment in 2007 and continues to attract capacity crowds each 
 year.&nbsp;Originally hosted by the Echuca Workers Club, then moved to the 
 Moama RSL for three years. The 2017 event will be held at Lockington which 
 is a welcoming little rural town in Northern Victoria. Only 25 minutes S.W.
  of Echuca.</p><p>We are very excited about our new Venue. It boasts a grea
 t dance floor, plenty of seating, ample parking, an area for self contained
  RV's and Campers in close proximity. Wheelchair access to the hall. Meals,
  Snacks &amp; beverages will be available all weekend.</p><p>There is a lot
  of potential for this festival to grow in future years so come along and s
 upport another great country music event.</p><p><strong>SATURDAY</strong>&n
 bsp;11am until 10.00pm.&nbsp;<strong>Tickets</strong>&nbsp;&nbsp;$25&nbsp;<
 br /><br /><strong>SUNDAY</strong>&nbsp;10.30am - 5.30pm&nbsp;<strong>Ticke
 ts</strong>&nbsp;&nbsp;$15&nbsp; Gospel Concert 10.30am - 11.30am.</p><p>*&
 nbsp;<strong>Special&nbsp;</strong>early-bird, two day ticket (Sat. &amp; S
 un.) $35</p><p>Artists appearing&nbsp;<strong>Saturday &amp; Sunday</strong
 >&nbsp;... CRAIG GILES, KINTA, ALLAN CARROLL, GARRY HUNT, ANNETTE &amp; KIM
 , JAMIE NIELSON, RUPE ADAMS&nbsp;<em>and more</em>.</p><p>Artists appearing
 &nbsp;<strong>Saturday only .</strong>.. GOOD TIME BAND, LEIGHTON B.WATTS, 
 CAMERON MASON, KIM RITCHIE, ANTHONY TENACE&nbsp;<em>and more</em>.</p><p>Ar
 tists appearing&nbsp;<strong>Sunday only .</strong>.. OLIVE BICE, JUSTUSS D
 UO, RAY MACARTNEY.</p><p>Join us for a weekend of first class entertainment
 , fun, great food and wonderful hospitality.</p><p>Please book early for Ca
 tering purposes.&nbsp;<br />Tickets available on-line now from Ticketebo.&n
 bsp;<a href="http://www.ticketebo.com.au/lockingtoncmf" target="_blank" tit
 le="">Tickets available here</a></p><p>*<em>More artists added as we go alo
 ng. Please call back from time to time to check on updates or contact Roz a
 t Big River Entertainment.</em></p><p>*<em>The slide show below are pics fr
 om last years venue. A new slide show will be uploaded soon</em></p><p><a h
 ref="http://www.lockingtoncmf.com" target="_blank" title="">Lockington Coun
 try Music Festival</a></p>
DTSTAMP:20200302T064209Z
DTSTART;TZID=Australia/Melbourne;VALUE=DATE:20170805
DTEND;TZID=Australia/Melbourne;VALUE=DATE:20170807
SEQUENCE:0
TRANSP:OPAQUE
END:VEVENT
END:VCALENDAR